BEGIN:VCALENDAR
VERSION:2.0
PRODID:-//eventon.com NONSGML v1.0//EN
BEGIN:VEVENT
UID:69e7438d96b40
DTSTAMP:20260421T092949
DTSTART:000000T000000Z
DTEND:005400T000000Z
TZID:America/Los_Angeles
LOCATION:Skagit P2P Office @ Carnation 117 N 1st Street
SUMMARY:Skagit P2P: IN PERSON Evening Tea Talk 2025-26
DESCRIPTION: Skagit P2P: IN PERSON Evening Tea Talk 2025-26
URL:https://www.sparckids.org/events/skagit-p2p-in-person-evening-tea-talk-2025-26/var/ri-19.l-L1
END:VEVENT
END:VCALENDAR