BEGIN:VCALENDAR
VERSION:2.0
PRODID:-//eventon.com NONSGML v1.0//EN
BEGIN:VEVENT
UID:69e7430990807
DTSTAMP:20260421T092737
DTSTART:000000T000000Z
DTEND:005400T000000Z
TZID:America/Los_Angeles
LOCATION:Salvation Army Sensory Room 3001 R Avenue\,  Suite 100
SUMMARY:Skagit P2P: IN PERSON Morning Coffee Chat 2025-26
DESCRIPTION: Skagit P2P: IN PERSON Morning Coffee Chat 2025-26
URL:https://www.sparckids.org/events/skagit-p2p-in-person-morning-coffee-chat-2025-26/var/ri-21.l-L1
END:VEVENT
END:VCALENDAR